BEGIN:VCALENDAR
VERSION:2.0
PRODID:-//ChamberMaster//Event Calendar 2.0//EN
METHOD:PUBLISH
X-PUBLISHED-TTL:P3D
REFRESH-INTERVAL:P3D
CALSCALE:GREGORIAN
BEGIN:VEVENT
DTSTART:20200121T223000Z
DTEND:20200122T000000Z
X-MICROSOFT-CDO-ALLDAYEVENT:FALSE
SUMMARY:Evening Networking
DESCRIPTION:Join us for a fun after-hours networking opportunity. Light refreshments are provided. Bring your business cards!
X-ALT-DESC;FMTTYPE=text/html:Join us for a fun after-hours networking opportunity. Light refreshments are provided. Bring your business cards!
LOCATION:
UID:e.2548.190
SEQUENCE:3
DTSTAMP:20260422T203721Z
URL:http://sebastianchamberfl.chambermaster.com/events/details/evening-networking-190
END:VEVENT

END:VCALENDAR
